BEGIN:VCALENDAR
VERSION:2.0
PRODID:-//Congregation Shaara Tfille | The Jewish Community Center of Saratoga Springs - ECPv6.15.20//NONSGML v1.0//EN
CALSCALE:GREGORIAN
METHOD:PUBLISH
X-ORIGINAL-URL:https://saratogasynagogue.org
X-WR-CALDESC:Events for Congregation Shaara Tfille | The Jewish Community Center of Saratoga Springs
REFRESH-INTERVAL;VALUE=DURATION:PT1H
X-Robots-Tag:noindex
X-PUBLISHED-TTL:PT1H
BEGIN:VTIMEZONE
TZID:America/New_York
BEGIN:DAYLIGHT
TZOFFSETFROM:-0500
TZOFFSETTO:-0400
TZNAME:EDT
DTSTART:20250309T070000
END:DAYLIGHT
BEGIN:STANDARD
TZOFFSETFROM:-0400
TZOFFSETTO:-0500
TZNAME:EST
DTSTART:20251102T060000
END:STANDARD
BEGIN:DAYLIGHT
TZOFFSETFROM:-0500
TZOFFSETTO:-0400
TZNAME:EDT
DTSTART:20260308T070000
END:DAYLIGHT
BEGIN:STANDARD
TZOFFSETFROM:-0400
TZOFFSETTO:-0500
TZNAME:EST
DTSTART:20261101T060000
END:STANDARD
BEGIN:DAYLIGHT
TZOFFSETFROM:-0500
TZOFFSETTO:-0400
TZNAME:EDT
DTSTART:20270314T070000
END:DAYLIGHT
BEGIN:STANDARD
TZOFFSETFROM:-0400
TZOFFSETTO:-0500
TZNAME:EST
DTSTART:20271107T060000
END:STANDARD
END:VTIMEZONE
BEGIN:VEVENT
DTSTART;TZID=America/New_York:20260214T180000
DTEND;TZID=America/New_York:20260214T200000
DTSTAMP:20260425T092825
CREATED:20251130T164106Z
LAST-MODIFIED:20260118T171650Z
UID:276606-1771092000-1771099200@saratogasynagogue.org
SUMMARY:Havdalah Service
DESCRIPTION:Havdalah Service followed by dinner and a movie. Dinner is vegetarian chili. The cost is $10 for attendees 13 years and older. Please RSVP by February 9 by calling the Office\, or go to the Contact Us page of this website and put in Office / General as the recipient.
URL:https://saratogasynagogue.org/event/havdalah-service/
LOCATION:Congregation Shaara Tfille and The Jewish Community Center of Saratoga Springs\, 84 Weibel Avenue\, Saratoga Springs\, New York\, 12866
CATEGORIES:Havdalah
ATTACH;FMTTYPE=image/jpeg:https://saratogasynagogue.org/wp-content/uploads/2025/11/Havdallah-Service.jpg
END:VEVENT
END:VCALENDAR